BEGIN:VCALENDAR
VERSION:2.0
PRODID:-//facesofhopeidaho.org//NONSGML kigkonsult.se iCalcreator 2.30.10//
CALSCALE:GREGORIAN
METHOD:PUBLISH
UID:a0ec4224-a9a2-4f49-8e29-022b45fe1d7c
X-WR-CALDESC:Sessions focus on yoga poses and slow movements that are prove
 n to relax the brain and assist with decreasing symptoms related to trauma
 . You will not break a sweat - Yoga Nidra is a passive and meditative form
  of yoga that focuses on breath work\, relaxation\, and releasing tension 
 from your body. Space is limited and a reservation is required to attend.
 \n\nWhen: Once a month – at our Boise office. Call 208-986-4357 for detail
 s.\n\nIntake must be completed prior to attending –  Call 208-986-4357 Mon
 day through Friday\, 8:00am – 5:00pm. Child watch is available onsite upon
  request.
X-WR-RELCALID:fa21c7d358a8e513695531c655aa82c6
X-WR-TIMEZONE:America/Denver
BEGIN:VTIMEZONE
TZID:America/Denver
BEGIN:STANDARD
TZNAME:MST
DTSTART:20301103T020000
TZOFFSETFROM:-0600
TZOFFSETTO:-0700
RDATE:20311102T020000
END:STANDARD
BEGIN:DAYLIGHT
TZNAME:MDT
DTSTART:20310309T020000
TZOFFSETFROM:-0700
TZOFFSETTO:-0600
RDATE:20320314T020000
END:DAYLIGHT
END:VTIMEZONE
BEGIN:VEVENT
UID:a21329e6-9f7e-4e55-aa17-8761b011b235
DTSTAMP:20260420T105603Z
DESCRIPTION:Sessions focus on yoga poses and slow movements that are proven
  to relax the brain and assist with decreasing symptoms related to trauma.
  You will not break a sweat - Yoga Nidra is a passive and meditative form 
 of yoga that focuses on breath work\, relaxation\, and releasing tension f
 rom your body. Space is limited and a reservation is required to attend.\n
 \nWhen: Once a month – at our Boise office. Call 208-986-4357 for details.
 \n\nIntake must be completed prior to attending –  Call 208-986-4357 Monda
 y through Friday\, 8:00am – 5:00pm. Child watch is available onsite upon r
 equest.
DTSTART;TZID=America/Denver:20310402T170000
DTEND;TZID=America/Denver:20310402T174500
LOCATION:209 W. Main Street\, Boise\, ID 83702 US
SUMMARY:Trauma-Informed Yoga
END:VEVENT
END:VCALENDAR
