BEGIN:VCALENDAR
VERSION:2.0
PRODID:-//facesofhopeidaho.org//NONSGML kigkonsult.se iCalcreator 2.30.10//
CALSCALE:GREGORIAN
METHOD:PUBLISH
UID:da27429f-d9ab-4d88-bf47-aa8c58897580
X-WR-CALDESC:An estimated 5 million\, or 1 in 10\, older Americans experien
 ce elder abuse\, neglect\, or exploitation. Working together across our ne
 tworks\, we can generate awareness and foster action to end elder abuse. L
 et’s work to keep everyone safe as we age. Join us in wearing purple in su
 pport!
X-WR-RELCALID:41617cc08e7e1553437d0deb36a0aef4
X-WR-TIMEZONE:America/Denver
BEGIN:VTIMEZONE
TZID:America/Denver
BEGIN:STANDARD
TZNAME:MST
DTSTART:20241103T020000
TZOFFSETFROM:-0600
TZOFFSETTO:-0700
RDATE:20251102T020000
RDATE:20261101T020000
END:STANDARD
BEGIN:DAYLIGHT
TZNAME:MDT
DTSTART:20250309T020000
TZOFFSETFROM:-0700
TZOFFSETTO:-0600
RDATE:20260308T020000
END:DAYLIGHT
END:VTIMEZONE
BEGIN:VEVENT
UID:37339078-aaea-4cfd-8447-514c618b88ea
DTSTAMP:20260420T092824Z
DESCRIPTION:An estimated 5 million\, or 1 in 10\, older Americans experienc
 e elder abuse\, neglect\, or exploitation. Working together across our net
 works\, we can generate awareness and foster action to end elder abuse. Le
 t’s work to keep everyone safe as we age. Join us in wearing purple in sup
 port!
DTSTART;TZID=America/Denver:20250615T040000
DTEND;TZID=America/Denver:20250615T040001
LOCATION:209 W Main St\, Boise\, ID 83702 US
SUMMARY:Wear Purple for World Elder Abuse Awareness Day
END:VEVENT
END:VCALENDAR
