BEGIN:VCALENDAR
VERSION:2.0
PRODID:-//facesofhopeidaho.org//NONSGML kigkonsult.se iCalcreator 2.30.10//
CALSCALE:GREGORIAN
METHOD:PUBLISH
UID:b00e1e79-790b-4f56-b933-2e3356ad0024
X-WR-CALDESC:
X-WR-RELCALID:2fd8013800301126242e3146482defc7
X-WR-TIMEZONE:America/Denver
BEGIN:VTIMEZONE
TZID:America/Denver
BEGIN:STANDARD
TZNAME:MST
DTSTART:20241103T020000
TZOFFSETFROM:-0600
TZOFFSETTO:-0700
RDATE:20251102T020000
RDATE:20261101T020000
END:STANDARD
BEGIN:DAYLIGHT
TZNAME:MDT
DTSTART:20250309T020000
TZOFFSETFROM:-0700
TZOFFSETTO:-0600
RDATE:20260308T020000
END:DAYLIGHT
END:VTIMEZONE
BEGIN:VEVENT
UID:3b3081d4-9755-40ff-807c-a3766c96482c
DTSTAMP:20260421T164702Z
DESCRIPTION:
DTSTART;TZID=America/Denver:20250526T040000
DTEND;TZID=America/Denver:20250526T040001
LOCATION:209 W Main St\, Boise\, ID 83702 US
SUMMARY:Both centers closed - federal holiday
END:VEVENT
END:VCALENDAR
