BEGIN:VCALENDAR
VERSION:2.0
PRODID:-//facesofhopeidaho.org//NONSGML kigkonsult.se iCalcreator 2.30.10//
CALSCALE:GREGORIAN
METHOD:PUBLISH
UID:ebf3bf2b-6468-466e-9d38-bd9c6e39abff
X-WR-CALDESC:$25 minimum donation to Faces of Hope for class. Reserve a spo
 t by texting Brianne Huffman at 208-608-6596.
X-WR-RELCALID:f91762308c7a71f42d97974a7b7d09b3
X-WR-TIMEZONE:America/Denver
BEGIN:VTIMEZONE
TZID:America/Denver
BEGIN:STANDARD
TZNAME:MST
DTSTART:20241103T020000
TZOFFSETFROM:-0600
TZOFFSETTO:-0700
RDATE:20251102T020000
RDATE:20261101T020000
END:STANDARD
BEGIN:DAYLIGHT
TZNAME:MDT
DTSTART:20250309T020000
TZOFFSETFROM:-0700
TZOFFSETTO:-0600
RDATE:20260308T020000
END:DAYLIGHT
END:VTIMEZONE
BEGIN:VEVENT
UID:98e2994c-b164-48ee-8588-80eaa678c797
DTSTAMP:20260421T164854Z
DESCRIPTION:$25 minimum donation to Faces of Hope for class. Reserve a spot
  by texting Brianne Huffman at 208-608-6596.
DTSTART;TZID=America/Denver:20250517T100000
DTEND;TZID=America/Denver:20250517T120000
LOCATION:8646 W Overland Dr\, Boise\, ID 83709 US
SUMMARY:Women's Self-Defense Class Fundraiser
END:VEVENT
END:VCALENDAR
