BEGIN:VCALENDAR
VERSION:2.0
PRODID:-//facesofhopeidaho.org//NONSGML kigkonsult.se iCalcreator 2.30.10//
CALSCALE:GREGORIAN
METHOD:PUBLISH
UID:8f1f1572-0afb-4a9d-8996-ca024f296771
X-WR-CALDESC:Two stages at Studio Sacred will showcase an incredible lineup
  of your favorite local DJs. A portion of every ticket benefits Faces of H
 ope.
X-WR-RELCALID:a3b3ad62951861323aafbe455b0a8ddf
X-WR-TIMEZONE:America/Denver
BEGIN:VTIMEZONE
TZID:America/Denver
BEGIN:STANDARD
TZNAME:MST
DTSTART:20241103T020000
TZOFFSETFROM:-0600
TZOFFSETTO:-0700
RDATE:20251102T020000
RDATE:20261101T020000
END:STANDARD
BEGIN:DAYLIGHT
TZNAME:MDT
DTSTART:20250309T020000
TZOFFSETFROM:-0700
TZOFFSETTO:-0600
RDATE:20260308T020000
END:DAYLIGHT
END:VTIMEZONE
BEGIN:VEVENT
UID:8ed87fdc-87ad-4e64-9451-1f0c379fbaf9
DTSTAMP:20260421T163831Z
DESCRIPTION:Two stages at Studio Sacred will showcase an incredible lineup 
 of your favorite local DJs. A portion of every ticket benefits Faces of Ho
 pe.
DTSTART;TZID=America/Denver:20250503T180000
DTEND;TZID=America/Denver:20250503T220000
LOCATION:108 W 33rd St\, Garden City\, ID 83714 US
SUMMARY:EDM Party Fundraiser
END:VEVENT
END:VCALENDAR
