BEGIN:VCALENDAR
VERSION:2.0
PRODID:-//facesofhopeidaho.org//NONSGML kigkonsult.se iCalcreator 2.30.10//
CALSCALE:GREGORIAN
METHOD:PUBLISH
UID:9e620f0a-5eba-406d-83a9-0ffd9db9dc7e
X-WR-CALDESC:Wear your denim to stand up against sexual assault! Stop by to
  grab some swag\, a beverage\, and make your Idaho Gives donation. 👖n\nHis
 tory of Denim Day: In the 90's\, a rape conviction was overturned in Italy
 . The courts decided that the 18-year-old victim's tight jeans must mean s
 he helped the rapist (her 45-year-old driving instructor) remove them and 
 thereby consented. The next day\, the women of the court wore jeans in pro
 test. \n\nWe wear denim every April to loudly proclaim that someone's clot
 hing is never an invitation nor an excuse.
X-WR-RELCALID:6c6114eb29c1f7cba8bb168e3fab5f8d
X-WR-TIMEZONE:America/Denver
BEGIN:VTIMEZONE
TZID:America/Denver
BEGIN:STANDARD
TZNAME:MST
DTSTART:20241103T020000
TZOFFSETFROM:-0600
TZOFFSETTO:-0700
RDATE:20251102T020000
END:STANDARD
BEGIN:DAYLIGHT
TZNAME:MDT
DTSTART:20250309T020000
TZOFFSETFROM:-0700
TZOFFSETTO:-0600
RDATE:20260308T020000
END:DAYLIGHT
END:VTIMEZONE
BEGIN:VEVENT
UID:65ef0694-45f7-425a-8130-a45a90902674
DTSTAMP:20260421T151322Z
DESCRIPTION:Wear your denim to stand up against sexual assault! Stop by to 
 grab some swag\, a beverage\, and make your Idaho Gives donation. 👖n\nHist
 ory of Denim Day: In the 90's\, a rape conviction was overturned in Italy.
  The courts decided that the 18-year-old victim's tight jeans must mean sh
 e helped the rapist (her 45-year-old driving instructor) remove them and t
 hereby consented. The next day\, the women of the court wore jeans in prot
 est. \n\nWe wear denim every April to loudly proclaim that someone's cloth
 ing is never an invitation nor an excuse.
DTSTART;TZID=America/Denver:20250430T060000
DTEND;TZID=America/Denver:20250430T100000
LOCATION:1507 N 13th St\, Boise\, ID 83702 US
SUMMARY:Denim Day @ Hyde Perk
END:VEVENT
END:VCALENDAR
