BEGIN:VCALENDAR
VERSION:2.0
PRODID:-//facesofhopeidaho.org//NONSGML kigkonsult.se iCalcreator 2.30.10//
CALSCALE:GREGORIAN
METHOD:PUBLISH
UID:b8955089-54c2-4fec-9e1f-767c49ae5d7b
X-WR-CALDESC:Designed for anyone considering or going through divorce\, off
 ering guidance to \navoid common pitfalls and make informed decisions for 
 a better future. This online class with our divorce coach requires an inta
 ke prior to registering. Call 208-986-4357 M-F 8-5.
X-WR-RELCALID:bcd324b7c652008d9b30e713aae0679c
X-WR-TIMEZONE:America/Denver
BEGIN:VTIMEZONE
TZID:America/Denver
BEGIN:STANDARD
TZNAME:MST
DTSTART:20241103T020000
TZOFFSETFROM:-0600
TZOFFSETTO:-0700
RDATE:20251102T020000
END:STANDARD
BEGIN:DAYLIGHT
TZNAME:MDT
DTSTART:20250309T020000
TZOFFSETFROM:-0700
TZOFFSETTO:-0600
RDATE:20260308T020000
END:DAYLIGHT
END:VTIMEZONE
BEGIN:VEVENT
UID:e0c1a045-84d6-48f8-b3bd-decf6e5865fe
DTSTAMP:20260421T153245Z
DESCRIPTION:Designed for anyone considering or going through divorce\, offe
 ring guidance to \navoid common pitfalls and make informed decisions for a
  better future. This online class with our divorce coach requires an intak
 e prior to registering. Call 208-986-4357 M-F 8-5.
DTSTART;TZID=America/Denver:20250416T190000
DTEND;TZID=America/Denver:20250416T203000
LOCATION:209 W Main St\, Boise\, ID 83702 US
SUMMARY:Divorcing\, What Now? Avoid the Biggest Mistakes (VIRTUAL)
END:VEVENT
END:VCALENDAR
