BEGIN:VCALENDAR
VERSION:2.0
PRODID:-//facesofhopeidaho.org//NONSGML kigkonsult.se iCalcreator 2.30.10//
CALSCALE:GREGORIAN
METHOD:PUBLISH
UID:65a1339a-15cc-472e-a13c-317e8e2931ac
X-WR-CALDESC:Sessions focus on yoga poses and slow movements that are prove
 n to relax the brain and assist with decreasing symptoms related to trauma
 . You will not break a sweat - Yoga Nidra is a passive and meditative form
  of yoga that focuses on breath work\, relaxation\, and releasing tension 
 from your body. Space is limited and a reservation is required to attend t
 his class at our Boise location. Call 208-986-4357 to sign up. Please park
  behind our building and enter through the front.
X-WR-RELCALID:46a90cc4adcbb0dc54e3d3d761df30d4
X-WR-TIMEZONE:America/Denver
BEGIN:VTIMEZONE
TZID:America/Denver
BEGIN:STANDARD
TZNAME:MST
DTSTART:20241103T020000
TZOFFSETFROM:-0600
TZOFFSETTO:-0700
RDATE:20251102T020000
END:STANDARD
BEGIN:DAYLIGHT
TZNAME:MDT
DTSTART:20250309T020000
TZOFFSETFROM:-0700
TZOFFSETTO:-0600
RDATE:20260308T020000
END:DAYLIGHT
END:VTIMEZONE
BEGIN:VEVENT
UID:2bab5cb8-7a4b-4763-bff6-dbaf21430168
DTSTAMP:20260421T141056Z
DESCRIPTION:Sessions focus on yoga poses and slow movements that are proven
  to relax the brain and assist with decreasing symptoms related to trauma.
  You will not break a sweat - Yoga Nidra is a passive and meditative form 
 of yoga that focuses on breath work\, relaxation\, and releasing tension f
 rom your body. Space is limited and a reservation is required to attend th
 is class at our Boise location. Call 208-986-4357 to sign up. Please park 
 behind our building and enter through the front.
DTSTART;TZID=America/Denver:20250312T170000
DTEND;TZID=America/Denver:20250312T180000
LOCATION:209 W Main St\, Boise\, ID 83702 US
SUMMARY:Trauma-Informed Yoga
END:VEVENT
END:VCALENDAR
