BEGIN:VCALENDAR
VERSION:2.0
PRODID:-//facesofhopeidaho.org//NONSGML kigkonsult.se iCalcreator 2.30.10//
CALSCALE:GREGORIAN
METHOD:PUBLISH
UID:8e5c1305-5bfe-4484-af1f-c44936d97aee
X-WR-CALDESC:Our empowerment class is specific to domestic violence. The cl
 ass is held once a week\; you can jump into the classes at any point\, sin
 ce they are held on a cyclical basis. During the 4-week class\, you will l
 earn about domestic violence\, the effects on yourself and your children\,
  and how to develop healthy boundaries in relationships. \n\nRSVP required
 . Call 208-986-4357 to sign up.\n\n
X-WR-RELCALID:c13f22020fb3c2d930771089c0a905d2
X-WR-TIMEZONE:America/Denver
BEGIN:VTIMEZONE
TZID:America/Denver
BEGIN:STANDARD
TZNAME:MST
DTSTART:20241103T020000
TZOFFSETFROM:-0600
TZOFFSETTO:-0700
RDATE:20251102T020000
END:STANDARD
BEGIN:DAYLIGHT
TZNAME:MDT
DTSTART:20250309T020000
TZOFFSETFROM:-0700
TZOFFSETTO:-0600
RDATE:20260308T020000
END:DAYLIGHT
END:VTIMEZONE
BEGIN:VEVENT
UID:05d945c6-da2d-48a3-8f9c-a932443f64ad
DTSTAMP:20260420T033507Z
DESCRIPTION:Our empowerment class is specific to domestic violence. The cla
 ss is held once a week\; you can jump into the classes at any point\, sinc
 e they are held on a cyclical basis. During the 4-week class\, you will le
 arn about domestic violence\, the effects on yourself and your children\, 
 and how to develop healthy boundaries in relationships. \n\nRSVP required.
  Call 208-986-4357 to sign up.\n\n
DTSTART;TZID=America/Denver:20250312T150000
DTEND;TZID=America/Denver:20250312T163000
LOCATION:1850 S Eagle Rd\, Ste 100\, Meridian\, ID 83642 US
SUMMARY:Empowerment Class
END:VEVENT
END:VCALENDAR
