BEGIN:VCALENDAR
VERSION:2.0
PRODID:-//facesofhopeidaho.org//NONSGML kigkonsult.se iCalcreator 2.30.10//
CALSCALE:GREGORIAN
METHOD:PUBLISH
UID:bb9b75f9-83c5-4e42-aba8-bcb93982eca4
X-WR-CALDESC:Join us for First Thursday with our friends at Radio Boise! Ta
 ke a tour of the studio and see where all the magic happens and make frien
 dship bracelets for Faces of Hope clients! \n\nTo find us: Once you enter 
 the Alaska Center\, go down the stairs in the center of the atrium and the
  Radio Boise studios are directly in front of you.
X-WR-RELCALID:535f291f8da0136c68ac5f32c76e8e90
X-WR-TIMEZONE:America/Denver
BEGIN:VTIMEZONE
TZID:America/Denver
BEGIN:STANDARD
TZNAME:MST
DTSTART:20241103T020000
TZOFFSETFROM:-0600
TZOFFSETTO:-0700
RDATE:20251102T020000
END:STANDARD
BEGIN:DAYLIGHT
TZNAME:MDT
DTSTART:20240310T020000
TZOFFSETFROM:-0700
TZOFFSETTO:-0600
RDATE:20250309T020000
RDATE:20260308T020000
END:DAYLIGHT
END:VTIMEZONE
BEGIN:VEVENT
UID:9c5f9c98-94f8-42e6-9470-389d958c2c90
DTSTAMP:20260421T141845Z
DESCRIPTION:Join us for First Thursday with our friends at Radio Boise! Tak
 e a tour of the studio and see where all the magic happens and make friend
 ship bracelets for Faces of Hope clients! \n\nTo find us: Once you enter t
 he Alaska Center\, go down the stairs in the center of the atrium and the 
 Radio Boise studios are directly in front of you.
DTSTART;TZID=America/Denver:20250306T170000
DTEND;TZID=America/Denver:20250306T200000
LOCATION:1020 W Main St\, Boise\, ID 83702 US
SUMMARY:Radio Boise & Bracelets
END:VEVENT
END:VCALENDAR
