BEGIN:VCALENDAR
VERSION:2.0
PRODID:-//facesofhopeidaho.org//NONSGML kigkonsult.se iCalcreator 2.30.10//
CALSCALE:GREGORIAN
METHOD:PUBLISH
UID:f2b0330a-22d7-4d20-83cd-73d6cdaaa61b
X-WR-CALDESC:Sessions focus on yoga poses and slow movements that are prove
 n to relax the brain and assist with decreasing symptoms related to trauma
 . You will not break a sweat - Yoga Nidra is a passive and meditative form
  of yoga that focuses on breath work\, relaxation\, and releasing tension 
 from your body. Space is limited and a reservation is required to attend t
 his class at our Boise location. Call 208-986-4357 to sign up. Please park
  behind our building and enter through the front.
X-WR-RELCALID:a94f92b4f6ad8595b8f1b419f6d12b6e
X-WR-TIMEZONE:America/Denver
BEGIN:VTIMEZONE
TZID:America/Denver
BEGIN:STANDARD
TZNAME:MST
DTSTART:20241103T020000
TZOFFSETFROM:-0600
TZOFFSETTO:-0700
RDATE:20251102T020000
END:STANDARD
BEGIN:DAYLIGHT
TZNAME:MDT
DTSTART:20240310T020000
TZOFFSETFROM:-0700
TZOFFSETTO:-0600
RDATE:20250309T020000
RDATE:20260308T020000
END:DAYLIGHT
END:VTIMEZONE
BEGIN:VEVENT
UID:11c00868-7113-4501-ba37-3fea27bb24b4
DTSTAMP:20260419T160543Z
DESCRIPTION:Sessions focus on yoga poses and slow movements that are proven
  to relax the brain and assist with decreasing symptoms related to trauma.
  You will not break a sweat - Yoga Nidra is a passive and meditative form 
 of yoga that focuses on breath work\, relaxation\, and releasing tension f
 rom your body. Space is limited and a reservation is required to attend th
 is class at our Boise location. Call 208-986-4357 to sign up. Please park 
 behind our building and enter through the front.
DTSTART;TZID=America/Denver:20250212T170000
DTEND;TZID=America/Denver:20250212T180000
LOCATION:209 W Main St\, Boise\, ID 83702 US
SUMMARY:Trauma-Informed Yoga
END:VEVENT
END:VCALENDAR
