BEGIN:VCALENDAR
VERSION:2.0
PRODID:-//facesofhopeidaho.org//NONSGML kigkonsult.se iCalcreator 2.30.10//
CALSCALE:GREGORIAN
METHOD:PUBLISH
UID:92fd928a-27d8-4b14-bccc-c1eb2e7f9427
X-WR-CALDESC:Our empowerment class is specific to domestic violence. The cl
 ass is held once a week\; you can jump into the classes at any point\, sin
 ce they are held on a cyclical basis. During the 4-week class\, you will l
 earn about domestic violence\, the effects on yourself and your children\,
  and how to develop healthy boundaries in relationships. \n\nRSVP required
 . Call 208-986-4357 to sign up.\n\n
X-WR-RELCALID:109df0ad1ded6023047420d139e17b32
X-WR-TIMEZONE:America/Denver
BEGIN:VTIMEZONE
TZID:America/Denver
BEGIN:STANDARD
TZNAME:MST
DTSTART:20241103T020000
TZOFFSETFROM:-0600
TZOFFSETTO:-0700
RDATE:20251102T020000
END:STANDARD
BEGIN:DAYLIGHT
TZNAME:MDT
DTSTART:20240310T020000
TZOFFSETFROM:-0700
TZOFFSETTO:-0600
RDATE:20250309T020000
RDATE:20260308T020000
END:DAYLIGHT
END:VTIMEZONE
BEGIN:VEVENT
UID:57a58717-8b47-4096-9159-8cdc2d59e21c
DTSTAMP:20260421T110652Z
DESCRIPTION:Our empowerment class is specific to domestic violence. The cla
 ss is held once a week\; you can jump into the classes at any point\, sinc
 e they are held on a cyclical basis. During the 4-week class\, you will le
 arn about domestic violence\, the effects on yourself and your children\, 
 and how to develop healthy boundaries in relationships. \n\nRSVP required.
  Call 208-986-4357 to sign up.\n\n
DTSTART;TZID=America/Denver:20250122T150000
DTEND;TZID=America/Denver:20250122T163000
LOCATION:1850 S Eagle Rd\, Ste 100\, Meridian\, ID 83642 US
SUMMARY:Empowerment Class
END:VEVENT
END:VCALENDAR
