BEGIN:VCALENDAR
VERSION:2.0
PRODID:-//facesofhopeidaho.org//NONSGML kigkonsult.se iCalcreator 2.30.10//
CALSCALE:GREGORIAN
METHOD:PUBLISH
UID:e9730e11-1809-4f8a-89e7-c874edfb3170
X-WR-CALDESC:Time to get your shop on with Mom\, Grandma\, and every other 
 woman in your life! Join us at The Village at Meridian for an exciting fas
 hion fundraiser. 15% of the proceeds from 2-8 pm will benefit Faces of Hop
 e!
X-WR-RELCALID:fd5e1ea99b0f51f89b883c5e918138ab
X-WR-TIMEZONE:America/Denver
BEGIN:VTIMEZONE
TZID:America/Denver
BEGIN:STANDARD
TZNAME:MST
DTSTART:20241103T020000
TZOFFSETFROM:-0600
TZOFFSETTO:-0700
RDATE:20251102T020000
END:STANDARD
BEGIN:DAYLIGHT
TZNAME:MDT
DTSTART:20240310T020000
TZOFFSETFROM:-0700
TZOFFSETTO:-0600
RDATE:20250309T020000
RDATE:20260308T020000
END:DAYLIGHT
END:VTIMEZONE
BEGIN:VEVENT
UID:29def06d-b8a1-4751-82cc-0206b3a4a639
DTSTAMP:20260421T105538Z
DESCRIPTION:Time to get your shop on with Mom\, Grandma\, and every other w
 oman in your life! Join us at The Village at Meridian for an exciting fash
 ion fundraiser. 15% of the proceeds from 2-8 pm will benefit Faces of Hope
 !
DTSTART;TZID=America/Denver:20250114T140000
DTEND;TZID=America/Denver:20250114T200000
LOCATION:3540 E Longwing Lane\, Ste 160\, Meridian\, ID 83646 US
SUMMARY:Evereve Fashion Fundraiser
END:VEVENT
END:VCALENDAR
