BEGIN:VCALENDAR
VERSION:2.0
PRODID:-//facesofhopeidaho.org//NONSGML kigkonsult.se iCalcreator 2.30.10//
CALSCALE:GREGORIAN
METHOD:PUBLISH
UID:786a23a8-f820-4217-8ba4-f68c37eb7665
X-WR-CALDESC:Please note that today\, both Faces of Hope locations will be 
 open only from 8 am - 3pm.
X-WR-RELCALID:367630e85ee0151a6a904f4fab5ed79d
X-WR-TIMEZONE:America/Denver
BEGIN:VTIMEZONE
TZID:America/Denver
BEGIN:STANDARD
TZNAME:MST
DTSTART:20241103T020000
TZOFFSETFROM:-0600
TZOFFSETTO:-0700
RDATE:20251102T020000
END:STANDARD
BEGIN:DAYLIGHT
TZNAME:MDT
DTSTART:20240310T020000
TZOFFSETFROM:-0700
TZOFFSETTO:-0600
RDATE:20250309T020000
RDATE:20260308T020000
END:DAYLIGHT
END:VTIMEZONE
BEGIN:VEVENT
UID:512e2d72-1621-45e3-a6c5-1bd2110d734f
DTSTAMP:20260421T111217Z
DESCRIPTION:Please note that today\, both Faces of Hope locations will be o
 pen only from 8 am - 3pm.
DTSTART;TZID=America/Denver:20250109T150000
DTEND;TZID=America/Denver:20250109T170000
LOCATION:209 W Main St\, Boise\, ID 83702 US
SUMMARY:Both offices closing early at 3 for all-staff meeting
END:VEVENT
END:VCALENDAR
