BEGIN:VCALENDAR
VERSION:2.0
PRODID:-//facesofhopeidaho.org//NONSGML kigkonsult.se iCalcreator 2.30.10//
CALSCALE:GREGORIAN
METHOD:PUBLISH
UID:5e9a3943-cc93-4ba0-9a7e-7a014df847f2
X-WR-CALDESC:Normal hours will resume on Thursday\, December 26.
X-WR-RELCALID:8d3f5a7fd2a455f4b7d76edfd0d00ae9
X-WR-TIMEZONE:America/Denver
BEGIN:VTIMEZONE
TZID:America/Denver
BEGIN:STANDARD
TZNAME:MST
DTSTART:20241103T020000
TZOFFSETFROM:-0600
TZOFFSETTO:-0700
RDATE:20251102T020000
END:STANDARD
BEGIN:DAYLIGHT
TZNAME:MDT
DTSTART:20240310T020000
TZOFFSETFROM:-0700
TZOFFSETTO:-0600
RDATE:20250309T020000
RDATE:20260308T020000
END:DAYLIGHT
END:VTIMEZONE
BEGIN:VEVENT
UID:74b46c48-0e4c-4492-8b42-41065f8c70fc
DTSTAMP:20260419T142950Z
DESCRIPTION:Normal hours will resume on Thursday\, December 26.
DTSTART;TZID=America/Denver:20241224T040000
DTEND;TZID=America/Denver:20241224T040001
LOCATION:209 W Main St\, Boise\, ID 83702 US
SUMMARY:Both centers closed
END:VEVENT
END:VCALENDAR
