BEGIN:VCALENDAR
VERSION:2.0
PRODID:-//facesofhopeidaho.org//NONSGML kigkonsult.se iCalcreator 2.30.10//
CALSCALE:GREGORIAN
METHOD:PUBLISH
UID:4501444f-aa9c-40b9-9471-0fb1f07ec403
X-WR-CALDESC:Make sure you hit up Barbarian Brewing's downtown location thi
 s week! They are donating 10% of all draft sales to Faces of Hope in honor
  of Domestic Violence Awareness Month.
X-WR-RELCALID:c1e0511eb991e58ae01d1ac33c5c465c
X-WR-TIMEZONE:America/Denver
BEGIN:VTIMEZONE
TZID:America/Denver
BEGIN:STANDARD
TZNAME:MST
DTSTART:20231105T020000
TZOFFSETFROM:-0600
TZOFFSETTO:-0700
RDATE:20241103T020000
RDATE:20251102T020000
END:STANDARD
BEGIN:DAYLIGHT
TZNAME:MDT
DTSTART:20240310T020000
TZOFFSETFROM:-0700
TZOFFSETTO:-0600
RDATE:20250309T020000
RDATE:20260308T020000
END:DAYLIGHT
END:VTIMEZONE
BEGIN:VEVENT
UID:33e9d56c-b7e0-4509-a130-d58c5dd8f1aa
DTSTAMP:20260422T013849Z
DESCRIPTION:Make sure you hit up Barbarian Brewing's downtown location this
  week! They are donating 10% of all draft sales to Faces of Hope in honor 
 of Domestic Violence Awareness Month.
DTSTART;TZID=America/Denver:20241015T040000
DTEND;TZID=America/Denver:20241018T040001
LOCATION:1022 W Main St\, Boise\, ID 83702 US
SUMMARY:Barbarian Downtown Beer Bar fundraiser
END:VEVENT
END:VCALENDAR
