BEGIN:VCALENDAR
VERSION:2.0
PRODID:-//facesofhopeidaho.org//NONSGML kigkonsult.se iCalcreator 2.30.10//
CALSCALE:GREGORIAN
METHOD:PUBLISH
UID:a2a8ac45-b08a-4ef5-bdc0-2da332dd2ba0
X-WR-CALDESC:We're excited to support our partners at the WCA in their annu
 al run/walk fundraiser.
X-WR-RELCALID:9bd04b79e6618866067f5c9ea7f6bf0a
X-WR-TIMEZONE:America/Denver
BEGIN:VTIMEZONE
TZID:America/Denver
BEGIN:STANDARD
TZNAME:MST
DTSTART:20231105T020000
TZOFFSETFROM:-0600
TZOFFSETTO:-0700
RDATE:20241103T020000
RDATE:20251102T020000
END:STANDARD
BEGIN:DAYLIGHT
TZNAME:MDT
DTSTART:20240310T020000
TZOFFSETFROM:-0700
TZOFFSETTO:-0600
RDATE:20250309T020000
RDATE:20260308T020000
END:DAYLIGHT
END:VTIMEZONE
BEGIN:VEVENT
UID:9ebf7ee6-c79b-4eb9-bb11-17e045252dfe
DTSTAMP:20260421T211206Z
DESCRIPTION:We're excited to support our partners at the WCA in their annua
 l run/walk fundraiser.
DTSTART;TZID=America/Denver:20241006T120000
DTEND;TZID=America/Denver:20241006T150000
LOCATION:700 S Capitol Blvd\, Boise\, ID 83702 US
SUMMARY:Tabling @ Sue B 5K
END:VEVENT
END:VCALENDAR
