BEGIN:VCALENDAR
VERSION:2.0
PRODID:-//facesofhopeidaho.org//NONSGML kigkonsult.se iCalcreator 2.30.10//
CALSCALE:GREGORIAN
METHOD:PUBLISH
UID:3a48b2b5-5771-4e38-9323-cea4d857c8c1
X-WR-CALDESC:
X-WR-RELCALID:0aba5c1f973013f84c6da3212a2a47f0
X-WR-TIMEZONE:America/Denver
BEGIN:VTIMEZONE
TZID:America/Denver
BEGIN:STANDARD
TZNAME:MST
DTSTART:20231105T020000
TZOFFSETFROM:-0600
TZOFFSETTO:-0700
RDATE:20241103T020000
RDATE:20251102T020000
END:STANDARD
BEGIN:DAYLIGHT
TZNAME:MDT
DTSTART:20240310T020000
TZOFFSETFROM:-0700
TZOFFSETTO:-0600
RDATE:20250309T020000
RDATE:20260308T020000
END:DAYLIGHT
END:VTIMEZONE
BEGIN:VEVENT
UID:bd304183-e384-4f40-88a6-960da99845a6
DTSTAMP:20260421T194603Z
DESCRIPTION:
DTSTART;TZID=America/Denver:20240914T110000
DTEND;TZID=America/Denver:20240915T170000
LOCATION:601 W Jefferson St\, Boise\, ID 83702 US
SUMMARY:Tabling @ Boise Pride
END:VEVENT
END:VCALENDAR
